BEGIN:VCALENDAR
VERSION:2.0
PRODID:-//Pflege! Deine Zukunft - ECPv6.15.20//NONSGML v1.0//EN
CALSCALE:GREGORIAN
METHOD:PUBLISH
X-WR-CALNAME:Pflege! Deine Zukunft
X-ORIGINAL-URL:https://www.pflegedeinezukunft.de
X-WR-CALDESC:Veranstaltungen für Pflege! Deine Zukunft
REFRESH-INTERVAL;VALUE=DURATION:PT1H
X-Robots-Tag:noindex
X-PUBLISHED-TTL:PT1H
BEGIN:VTIMEZONE
TZID:Europe/Berlin
BEGIN:DAYLIGHT
TZOFFSETFROM:+0100
TZOFFSETTO:+0200
TZNAME:CEST
DTSTART:20230326T010000
END:DAYLIGHT
BEGIN:STANDARD
TZOFFSETFROM:+0200
TZOFFSETTO:+0100
TZNAME:CET
DTSTART:20231029T010000
END:STANDARD
BEGIN:DAYLIGHT
TZOFFSETFROM:+0100
TZOFFSETTO:+0200
TZNAME:CEST
DTSTART:20240331T010000
END:DAYLIGHT
BEGIN:STANDARD
TZOFFSETFROM:+0200
TZOFFSETTO:+0100
TZNAME:CET
DTSTART:20241027T010000
END:STANDARD
BEGIN:DAYLIGHT
TZOFFSETFROM:+0100
TZOFFSETTO:+0200
TZNAME:CEST
DTSTART:20250330T010000
END:DAYLIGHT
BEGIN:STANDARD
TZOFFSETFROM:+0200
TZOFFSETTO:+0100
TZNAME:CET
DTSTART:20251026T010000
END:STANDARD
END:VTIMEZONE
BEGIN:VEVENT
DTSTART;TZID=Europe/Berlin:20240428T150000
DTEND;TZID=Europe/Berlin:20240428T180000
DTSTAMP:20260421T202324
CREATED:20240205T111439Z
LAST-MODIFIED:20240205T111439Z
UID:10000144-1714316400-1714327200@www.pflegedeinezukunft.de
SUMMARY:Live vor Ort
DESCRIPTION:Nehme Einblick in das Leben einer Sozialstation und bei den zu betreuenden Menschen zu Hause. Entdecke die vielfältige Arbeit einer Pflegekraft sowie die Ausbildungs- und Beschäftigungsmöglichkeiten in der Pflege. Auch Quer- und Wiedereinsteiger:innen jeden Alters sind herzlich willkommen. \nBitte bis eine Woche vorher anmelden: E-Mail: kai.reinemuth@sozialstation-hemsbach.de.
URL:https://www.pflegedeinezukunft.de/event/live-vor-ort-14/
LOCATION:Evangelische Sozialstation Nördliche Bergstraße\, Ahornstraße 16\, Hemsbach\, 69502\, Deutschland
CATEGORIES:Aktionswoche 2024
ORGANIZER;CN="Evangelische Sozialstation N%C3%B6rdliche Bergstra%C3%9Fe":MAILTO:kai.reinemuth@sozialstation-hemsbach.de
END:VEVENT
BEGIN:VEVENT
DTSTART;TZID=Europe/Berlin:20240428T080000
DTEND;TZID=Europe/Berlin:20240428T120000
DTSTAMP:20260421T202324
CREATED:20240205T111402Z
LAST-MODIFIED:20240205T111402Z
UID:10000143-1714291200-1714305600@www.pflegedeinezukunft.de
SUMMARY:Live vor Ort
DESCRIPTION:Nehme Einblick in das Leben einer Sozialstation und bei den zu betreuenden Menschen zu Hause. Entdecke die vielfältige Arbeit einer Pflegekraft sowie die Ausbildungs- und Beschäftigungsmöglichkeiten in der Pflege. Auch Quer- und Wiedereinsteiger:innen jeden Alters sind herzlich willkommen. \nBitte bis eine Woche vorher anmelden: E-Mail: kai.reinemuth@sozialstation-hemsbach.de.
URL:https://www.pflegedeinezukunft.de/event/live-vor-ort-13/
LOCATION:Evangelische Sozialstation Nördliche Bergstraße\, Ahornstraße 16\, Hemsbach\, 69502\, Deutschland
CATEGORIES:Aktionswoche 2024
ORGANIZER;CN="Evangelische Sozialstation N%C3%B6rdliche Bergstra%C3%9Fe":MAILTO:kai.reinemuth@sozialstation-hemsbach.de
END:VEVENT
BEGIN:VEVENT
DTSTART;TZID=Europe/Berlin:20240427T150000
DTEND;TZID=Europe/Berlin:20240427T180000
DTSTAMP:20260421T202324
CREATED:20240205T111318Z
LAST-MODIFIED:20240205T111318Z
UID:10000142-1714230000-1714240800@www.pflegedeinezukunft.de
SUMMARY:Live vor Ort
DESCRIPTION:Nehme Einblick in das Leben einer Sozialstation und bei den zu betreuenden Menschen zu Hause. Entdecke die vielfältige Arbeit einer Pflegekraft sowie die Ausbildungs- und Beschäftigungsmöglichkeiten in der Pflege. Auch Quer- und Wiedereinsteiger:innen jeden Alters sind herzlich willkommen. \nBitte bis eine Woche vorher anmelden: E-Mail: kai.reinemuth@sozialstation-hemsbach.de.
URL:https://www.pflegedeinezukunft.de/event/live-vor-ort-12/
LOCATION:Evangelische Sozialstation Nördliche Bergstraße\, Ahornstraße 16\, Hemsbach\, 69502\, Deutschland
CATEGORIES:Aktionswoche 2024
ORGANIZER;CN="Evangelische Sozialstation N%C3%B6rdliche Bergstra%C3%9Fe":MAILTO:kai.reinemuth@sozialstation-hemsbach.de
END:VEVENT
BEGIN:VEVENT
DTSTART;TZID=Europe/Berlin:20240427T080000
DTEND;TZID=Europe/Berlin:20240427T120000
DTSTAMP:20260421T202324
CREATED:20240205T111239Z
LAST-MODIFIED:20240205T111239Z
UID:10000141-1714204800-1714219200@www.pflegedeinezukunft.de
SUMMARY:Live vor Ort
DESCRIPTION:Nehme Einblick in das Leben einer Sozialstation und bei den zu betreuenden Menschen zu Hause. Entdecke die vielfältige Arbeit einer Pflegekraft sowie die Ausbildungs- und Beschäftigungsmöglichkeiten in der Pflege. Auch Quer- und Wiedereinsteiger:innen jeden Alters sind herzlich willkommen. \nBitte bis eine Woche vorher anmelden: E-Mail: kai.reinemuth@sozialstation-hemsbach.de.
URL:https://www.pflegedeinezukunft.de/event/live-vor-ort-11/
LOCATION:Evangelische Sozialstation Nördliche Bergstraße\, Ahornstraße 16\, Hemsbach\, 69502\, Deutschland
CATEGORIES:Aktionswoche 2024
ORGANIZER;CN="Evangelische Sozialstation N%C3%B6rdliche Bergstra%C3%9Fe":MAILTO:kai.reinemuth@sozialstation-hemsbach.de
END:VEVENT
BEGIN:VEVENT
DTSTART;TZID=Europe/Berlin:20240426T150000
DTEND;TZID=Europe/Berlin:20240426T180000
DTSTAMP:20260421T202324
CREATED:20240205T111152Z
LAST-MODIFIED:20240205T111152Z
UID:10000140-1714143600-1714154400@www.pflegedeinezukunft.de
SUMMARY:Live vor Ort
DESCRIPTION:Nehme Einblick in das Leben einer Sozialstation und bei den zu betreuenden Menschen zu Hause. Entdecke die vielfältige Arbeit einer Pflegekraft sowie die Ausbildungs- und Beschäftigungsmöglichkeiten in der Pflege. Auch Quer- und Wiedereinsteiger:innen jeden Alters sind herzlich willkommen. \nBitte bis eine Woche vorher anmelden: E-Mail: kai.reinemuth@sozialstation-hemsbach.de.
URL:https://www.pflegedeinezukunft.de/event/live-vor-ort-10/
LOCATION:Evangelische Sozialstation Nördliche Bergstraße\, Ahornstraße 16\, Hemsbach\, 69502\, Deutschland
CATEGORIES:Aktionswoche 2024
ORGANIZER;CN="Evangelische Sozialstation N%C3%B6rdliche Bergstra%C3%9Fe":MAILTO:kai.reinemuth@sozialstation-hemsbach.de
END:VEVENT
BEGIN:VEVENT
DTSTART;TZID=Europe/Berlin:20240426T080000
DTEND;TZID=Europe/Berlin:20240426T120000
DTSTAMP:20260421T202324
CREATED:20240205T111107Z
LAST-MODIFIED:20240205T111107Z
UID:10000139-1714118400-1714132800@www.pflegedeinezukunft.de
SUMMARY:Live vor Ort
DESCRIPTION:Nehme Einblick in das Leben einer Sozialstation und bei den zu betreuenden Menschen zu Hause. Entdecke die vielfältige Arbeit einer Pflegekraft sowie die Ausbildungs- und Beschäftigungsmöglichkeiten in der Pflege. Auch Quer- und Wiedereinsteiger:innen jeden Alters sind herzlich willkommen. \nBitte bis eine Woche vorher anmelden: E-Mail: kai.reinemuth@sozialstation-hemsbach.de.
URL:https://www.pflegedeinezukunft.de/event/live-vor-ort-9/
LOCATION:Evangelische Sozialstation Nördliche Bergstraße\, Ahornstraße 16\, Hemsbach\, 69502\, Deutschland
CATEGORIES:Aktionswoche 2024
ORGANIZER;CN="Evangelische Sozialstation N%C3%B6rdliche Bergstra%C3%9Fe":MAILTO:kai.reinemuth@sozialstation-hemsbach.de
END:VEVENT
BEGIN:VEVENT
DTSTART;TZID=Europe/Berlin:20240425T150000
DTEND;TZID=Europe/Berlin:20240425T180000
DTSTAMP:20260421T202324
CREATED:20240205T111026Z
LAST-MODIFIED:20240205T111026Z
UID:10000138-1714057200-1714068000@www.pflegedeinezukunft.de
SUMMARY:Live vor Ort
DESCRIPTION:Nehme Einblick in das Leben einer Sozialstation und bei den zu betreuenden Menschen zu Hause. Entdecke die vielfältige Arbeit einer Pflegekraft sowie die Ausbildungs- und Beschäftigungsmöglichkeiten in der Pflege. Auch Quer- und Wiedereinsteiger:innen jeden Alters sind herzlich willkommen. \nBitte bis eine Woche vorher anmelden: E-Mail: kai.reinemuth@sozialstation-hemsbach.de.
URL:https://www.pflegedeinezukunft.de/event/live-vor-ort-8/
LOCATION:Evangelische Sozialstation Nördliche Bergstraße\, Ahornstraße 16\, Hemsbach\, 69502\, Deutschland
CATEGORIES:Aktionswoche 2024
ORGANIZER;CN="Evangelische Sozialstation N%C3%B6rdliche Bergstra%C3%9Fe":MAILTO:kai.reinemuth@sozialstation-hemsbach.de
END:VEVENT
BEGIN:VEVENT
DTSTART;TZID=Europe/Berlin:20240425T080000
DTEND;TZID=Europe/Berlin:20240425T120000
DTSTAMP:20260421T202324
CREATED:20240205T110948Z
LAST-MODIFIED:20240205T110948Z
UID:10000137-1714032000-1714046400@www.pflegedeinezukunft.de
SUMMARY:Live vor Ort
DESCRIPTION:Nehme Einblick in das Leben einer Sozialstation und bei den zu betreuenden Menschen zu Hause. Entdecke die vielfältige Arbeit einer Pflegekraft sowie die Ausbildungs- und Beschäftigungsmöglichkeiten in der Pflege. Auch Quer- und Wiedereinsteiger:innen jeden Alters sind herzlich willkommen. \nBitte bis eine Woche vorher anmelden: E-Mail: kai.reinemuth@sozialstation-hemsbach.de.
URL:https://www.pflegedeinezukunft.de/event/live-vor-ort-7/
LOCATION:Evangelische Sozialstation Nördliche Bergstraße\, Ahornstraße 16\, Hemsbach\, 69502\, Deutschland
CATEGORIES:Aktionswoche 2024
ORGANIZER;CN="Evangelische Sozialstation N%C3%B6rdliche Bergstra%C3%9Fe":MAILTO:kai.reinemuth@sozialstation-hemsbach.de
END:VEVENT
BEGIN:VEVENT
DTSTART;TZID=Europe/Berlin:20240424T150000
DTEND;TZID=Europe/Berlin:20240424T180000
DTSTAMP:20260421T202324
CREATED:20240205T110903Z
LAST-MODIFIED:20240205T110903Z
UID:10000136-1713970800-1713981600@www.pflegedeinezukunft.de
SUMMARY:Live vor Ort
DESCRIPTION:Nehme Einblick in das Leben einer Sozialstation und bei den zu betreuenden Menschen zu Hause. Entdecke die vielfältige Arbeit einer Pflegekraft sowie die Ausbildungs- und Beschäftigungsmöglichkeiten in der Pflege. Auch Quer- und Wiedereinsteiger:innen jeden Alters sind herzlich willkommen. \nBitte bis eine Woche vorher anmelden: E-Mail: kai.reinemuth@sozialstation-hemsbach.de.
URL:https://www.pflegedeinezukunft.de/event/live-vor-ort-6/
LOCATION:Evangelische Sozialstation Nördliche Bergstraße\, Ahornstraße 16\, Hemsbach\, 69502\, Deutschland
CATEGORIES:Aktionswoche 2024
ORGANIZER;CN="Evangelische Sozialstation N%C3%B6rdliche Bergstra%C3%9Fe":MAILTO:kai.reinemuth@sozialstation-hemsbach.de
END:VEVENT
BEGIN:VEVENT
DTSTART;TZID=Europe/Berlin:20240424T080000
DTEND;TZID=Europe/Berlin:20240424T120000
DTSTAMP:20260421T202324
CREATED:20240205T110818Z
LAST-MODIFIED:20240205T110818Z
UID:10000135-1713945600-1713960000@www.pflegedeinezukunft.de
SUMMARY:Live vor Ort
DESCRIPTION:Nehme Einblick in das Leben einer Sozialstation und bei den zu betreuenden Menschen zu Hause. Entdecke die vielfältige Arbeit einer Pflegekraft sowie die Ausbildungs- und Beschäftigungsmöglichkeiten in der Pflege. Auch Quer- und Wiedereinsteiger:innen jeden Alters sind herzlich willkommen. \nBitte bis eine Woche vorher anmelden: E-Mail: kai.reinemuth@sozialstation-hemsbach.de.
URL:https://www.pflegedeinezukunft.de/event/live-vor-ort-5/
LOCATION:Evangelische Sozialstation Nördliche Bergstraße\, Ahornstraße 16\, Hemsbach\, 69502\, Deutschland
CATEGORIES:Aktionswoche 2024
ORGANIZER;CN="Evangelische Sozialstation N%C3%B6rdliche Bergstra%C3%9Fe":MAILTO:kai.reinemuth@sozialstation-hemsbach.de
END:VEVENT
BEGIN:VEVENT
DTSTART;TZID=Europe/Berlin:20240423T150000
DTEND;TZID=Europe/Berlin:20240423T180000
DTSTAMP:20260421T202324
CREATED:20240205T110732Z
LAST-MODIFIED:20240205T110732Z
UID:10000134-1713884400-1713895200@www.pflegedeinezukunft.de
SUMMARY:Live vor Ort
DESCRIPTION:Nehme Einblick in das Leben einer Sozialstation und bei den zu betreuenden Menschen zu Hause. Entdecke die vielfältige Arbeit einer Pflegekraft sowie die Ausbildungs- und Beschäftigungsmöglichkeiten in der Pflege. Auch Quer- und Wiedereinsteiger:innen jeden Alters sind herzlich willkommen. \nBitte bis eine Woche vorher anmelden: E-Mail: kai.reinemuth@sozialstation-hemsbach.de.
URL:https://www.pflegedeinezukunft.de/event/live-vor-ort-4/
LOCATION:Evangelische Sozialstation Nördliche Bergstraße\, Ahornstraße 16\, Hemsbach\, 69502\, Deutschland
CATEGORIES:Aktionswoche 2024
ORGANIZER;CN="Evangelische Sozialstation N%C3%B6rdliche Bergstra%C3%9Fe":MAILTO:kai.reinemuth@sozialstation-hemsbach.de
END:VEVENT
BEGIN:VEVENT
DTSTART;TZID=Europe/Berlin:20240423T080000
DTEND;TZID=Europe/Berlin:20240423T120000
DTSTAMP:20260421T202324
CREATED:20240205T110651Z
LAST-MODIFIED:20240205T110651Z
UID:10000133-1713859200-1713873600@www.pflegedeinezukunft.de
SUMMARY:Live vor Ort
DESCRIPTION:Nehme Einblick in das Leben einer Sozialstation und bei den zu betreuenden Menschen zu Hause. Entdecke die vielfältige Arbeit einer Pflegekraft sowie die Ausbildungs- und Beschäftigungsmöglichkeiten in der Pflege. Auch Quer- und Wiedereinsteiger:innen jeden Alters sind herzlich willkommen. \nBitte bis eine Woche vorher anmelden: E-Mail: kai.reinemuth@sozialstation-hemsbach.de.
URL:https://www.pflegedeinezukunft.de/event/live-vor-ort-3/
LOCATION:Evangelische Sozialstation Nördliche Bergstraße\, Ahornstraße 16\, Hemsbach\, 69502\, Deutschland
CATEGORIES:Aktionswoche 2024
ORGANIZER;CN="Evangelische Sozialstation N%C3%B6rdliche Bergstra%C3%9Fe":MAILTO:kai.reinemuth@sozialstation-hemsbach.de
END:VEVENT
BEGIN:VEVENT
DTSTART;TZID=Europe/Berlin:20240422T150000
DTEND;TZID=Europe/Berlin:20240422T180000
DTSTAMP:20260421T202324
CREATED:20240205T110553Z
LAST-MODIFIED:20240205T110553Z
UID:10000132-1713798000-1713808800@www.pflegedeinezukunft.de
SUMMARY:Live vor Ort
DESCRIPTION:Nehme Einblick in das Leben einer Sozialstation und bei den zu betreuenden Menschen zu Hause. Entdecke die vielfältige Arbeit einer Pflegekraft sowie die Ausbildungs- und Beschäftigungsmöglichkeiten in der Pflege. Auch Quer- und Wiedereinsteiger:innen jeden Alters sind herzlich willkommen. \nBitte bis eine Woche vorher anmelden: E-Mail: kai.reinemuth@sozialstation-hemsbach.de.
URL:https://www.pflegedeinezukunft.de/event/live-vor-ort-2/
LOCATION:Evangelische Sozialstation Nördliche Bergstraße\, Ahornstraße 16\, Hemsbach\, 69502\, Deutschland
CATEGORIES:Aktionswoche 2024
ORGANIZER;CN="Evangelische Sozialstation N%C3%B6rdliche Bergstra%C3%9Fe":MAILTO:kai.reinemuth@sozialstation-hemsbach.de
END:VEVENT
BEGIN:VEVENT
DTSTART;TZID=Europe/Berlin:20240422T080000
DTEND;TZID=Europe/Berlin:20240422T120000
DTSTAMP:20260421T202324
CREATED:20240205T110318Z
LAST-MODIFIED:20240205T110318Z
UID:10000131-1713772800-1713787200@www.pflegedeinezukunft.de
SUMMARY:Live vor Ort
DESCRIPTION:Nehme Einblick in das Leben einer Sozialstation und bei den zu betreuenden Menschen zu Hause. Entdecke die vielfältige Arbeit einer Pflegekraft sowie die Ausbildungs- und Beschäftigungsmöglichkeiten in der Pflege. Auch Quer- und Wiedereinsteiger:innen jeden Alters sind herzlich willkommen. \nBitte bis eine Woche vorher anmelden: E-Mail: kai.reinemuth@sozialstation-hemsbach.de.
URL:https://www.pflegedeinezukunft.de/event/live-vor-ort/
LOCATION:Evangelische Sozialstation Nördliche Bergstraße\, Ahornstraße 16\, Hemsbach\, 69502\, Deutschland
CATEGORIES:Aktionswoche 2024
ORGANIZER;CN="Evangelische Sozialstation N%C3%B6rdliche Bergstra%C3%9Fe":MAILTO:kai.reinemuth@sozialstation-hemsbach.de
END:VEVENT
END:VCALENDAR