BEGIN:VCALENDAR
VERSION:2.0
PRODID:-//Pflege! Deine Zukunft - ECPv6.15.20//NONSGML v1.0//EN
CALSCALE:GREGORIAN
METHOD:PUBLISH
X-ORIGINAL-URL:https://www.pflegedeinezukunft.de
X-WR-CALDESC:Veranstaltungen für Pflege! Deine Zukunft
REFRESH-INTERVAL;VALUE=DURATION:PT1H
X-Robots-Tag:noindex
X-PUBLISHED-TTL:PT1H
BEGIN:VTIMEZONE
TZID:Europe/Berlin
BEGIN:DAYLIGHT
TZOFFSETFROM:+0100
TZOFFSETTO:+0200
TZNAME:CEST
DTSTART:20230326T010000
END:DAYLIGHT
BEGIN:STANDARD
TZOFFSETFROM:+0200
TZOFFSETTO:+0100
TZNAME:CET
DTSTART:20231029T010000
END:STANDARD
BEGIN:DAYLIGHT
TZOFFSETFROM:+0100
TZOFFSETTO:+0200
TZNAME:CEST
DTSTART:20240331T010000
END:DAYLIGHT
BEGIN:STANDARD
TZOFFSETFROM:+0200
TZOFFSETTO:+0100
TZNAME:CET
DTSTART:20241027T010000
END:STANDARD
BEGIN:DAYLIGHT
TZOFFSETFROM:+0100
TZOFFSETTO:+0200
TZNAME:CEST
DTSTART:20250330T010000
END:DAYLIGHT
BEGIN:STANDARD
TZOFFSETFROM:+0200
TZOFFSETTO:+0100
TZNAME:CET
DTSTART:20251026T010000
END:STANDARD
END:VTIMEZONE
BEGIN:VEVENT
DTSTART;TZID=Europe/Berlin:20240423T093000
DTEND;TZID=Europe/Berlin:20240423T110000
DTSTAMP:20260421T220042
CREATED:20240125T190105Z
LAST-MODIFIED:20240205T101511Z
UID:10000066-1713864600-1713870000@www.pflegedeinezukunft.de
SUMMARY:Betreuungsangebote in der Pflege - Ein wichtiger Aspekt!
DESCRIPTION:Wir laden dich zum Mitmachen ein! Entdecke\, dass Pflege nicht nur Körper pflegen bedeutet. Du erhältst Einblicke in unseren Alltag und wissenswerte Informationen zu den Ausbildungs- und Beschäftigungsmöglichkeiten. \nGruppen ab 10 Personen melden sich bitte an. E-Mail: natascha.siegler@agaplesion.de.
URL:https://www.pflegedeinezukunft.de/event/betreuungsangebote-in-der-pflege-ein-wichtiger-aspekt/
LOCATION:Agaplesion Diakoniestation Kraichtal\, Rathausstraße 23\, Kraichtal\, 76703\, Deutschland
CATEGORIES:Aktionswoche 2024
ORGANIZER;CN="Agaplesion Diakoniestation Kraichtal":MAILTO:natascha.siegler@agaplesion.de
END:VEVENT
END:VCALENDAR