BEGIN:VCALENDAR
VERSION:2.0
PRODID:-//Pflege! Deine Zukunft - ECPv6.15.20//NONSGML v1.0//EN
CALSCALE:GREGORIAN
METHOD:PUBLISH
X-WR-CALNAME:Pflege! Deine Zukunft
X-ORIGINAL-URL:https://www.pflegedeinezukunft.de
X-WR-CALDESC:Veranstaltungen für Pflege! Deine Zukunft
REFRESH-INTERVAL;VALUE=DURATION:PT1H
X-Robots-Tag:noindex
X-PUBLISHED-TTL:PT1H
BEGIN:VTIMEZONE
TZID:Europe/Berlin
BEGIN:DAYLIGHT
TZOFFSETFROM:+0100
TZOFFSETTO:+0200
TZNAME:CEST
DTSTART:20230326T010000
END:DAYLIGHT
BEGIN:STANDARD
TZOFFSETFROM:+0200
TZOFFSETTO:+0100
TZNAME:CET
DTSTART:20231029T010000
END:STANDARD
BEGIN:DAYLIGHT
TZOFFSETFROM:+0100
TZOFFSETTO:+0200
TZNAME:CEST
DTSTART:20240331T010000
END:DAYLIGHT
BEGIN:STANDARD
TZOFFSETFROM:+0200
TZOFFSETTO:+0100
TZNAME:CET
DTSTART:20241027T010000
END:STANDARD
BEGIN:DAYLIGHT
TZOFFSETFROM:+0100
TZOFFSETTO:+0200
TZNAME:CEST
DTSTART:20250330T010000
END:DAYLIGHT
BEGIN:STANDARD
TZOFFSETFROM:+0200
TZOFFSETTO:+0100
TZNAME:CET
DTSTART:20251026T010000
END:STANDARD
END:VTIMEZONE
BEGIN:VEVENT
DTSTART;TZID=Europe/Berlin:20240425T140000
DTEND;TZID=Europe/Berlin:20240425T160000
DTSTAMP:20260421T204452
CREATED:20240125T185850Z
LAST-MODIFIED:20240205T090056Z
UID:10000059-1714053600-1714060800@www.pflegedeinezukunft.de
SUMMARY:Pflege zum Anfassen
DESCRIPTION:Praxisnahe Tätigkeiten in der Pflege als Selbsterfahrung und Demonstration. Multimediale Nutzung in der Pflege. Informationen zu den Ausbildungs-\, Beschäftigungs- und Fortbildungsmöglichkeiten in der Pflege. Spezielle Veranstaltung für Quer- und Wiedereinsteiger:innen mit Informationen zu Fördermöglichkeiten. \nGruppen ab 10 Personen melden sich bitte an. E-Mail: jas.mueller@asb-heilbronn.de.
URL:https://www.pflegedeinezukunft.de/event/pflege-zum-anfassen-6/
LOCATION:ASB Zentrum für Altenhilfe am Ilvesbach\, Am Ilvesbach 2\, Sinsheim\, 74889\, Deutschland
CATEGORIES:Aktionswoche 2024
ORGANIZER;CN="ASB Zentrum f%C3%BCr Altenhilfe  am Ilvesbach":MAILTO:jas.mueller@asb-heilbronn.de
END:VEVENT
BEGIN:VEVENT
DTSTART;TZID=Europe/Berlin:20240425T093000
DTEND;TZID=Europe/Berlin:20240425T120000
DTSTAMP:20260421T204452
CREATED:20240125T185850Z
LAST-MODIFIED:20240128T082322Z
UID:10000058-1714037400-1714046400@www.pflegedeinezukunft.de
SUMMARY:Pflege zum Anfassen
DESCRIPTION:Praxisnahe Tätigkeiten in der Pflege als Selbsterfahrung und Demonstration. Multimediale Nutzung in der Pflege. Informationen zu den Ausbildungs-\, Beschäftigungs- und Fortbildungsmöglichkeiten in der Pflege. Spezielle Veranstaltung für Quer- und Wiedereinsteigende mit Informationen zu Fördermöglichkeiten. Gruppen ab 10 Personen melden sich bitte an. E-Mail: jas.mueller@asb-heilbronn.de
URL:https://www.pflegedeinezukunft.de/event/pflege-zum-anfassen-5/
LOCATION:ASB Zentrum für Altenhilfe am Ilvesbach\, Am Ilvesbach 2\, Sinsheim\, 74889\, Deutschland
CATEGORIES:Aktionswoche 2024
ORGANIZER;CN="ASB Zentrum f%C3%BCr Altenhilfe  am Ilvesbach":MAILTO:jas.mueller@asb-heilbronn.de
END:VEVENT
BEGIN:VEVENT
DTSTART;TZID=Europe/Berlin:20240424T140000
DTEND;TZID=Europe/Berlin:20240424T160000
DTSTAMP:20260421T204452
CREATED:20240125T185850Z
LAST-MODIFIED:20240205T094235Z
UID:10000057-1713967200-1713974400@www.pflegedeinezukunft.de
SUMMARY:Pflege zum Anfassen
DESCRIPTION:Praxisnahe Tätigkeiten in der Pflege als Selbsterfahrung und Demonstration. Multimediale Nutzung in der Pflege. Informationen zu den Ausbildungs-\, Beschäftigungs- und Fortbildungsmöglichkeiten in der Pflege. \nGruppen ab 10 Personen melden sich bitte an. E-Mail: jas.mueller@asb-heilbronn.de.
URL:https://www.pflegedeinezukunft.de/event/pflege-zum-anfassen-4/
LOCATION:ASB Zentrum für Altenhilfe am Ilvesbach\, Am Ilvesbach 2\, Sinsheim\, 74889\, Deutschland
CATEGORIES:Aktionswoche 2024
ORGANIZER;CN="ASB Zentrum f%C3%BCr Altenhilfe  am Ilvesbach":MAILTO:jas.mueller@asb-heilbronn.de
END:VEVENT
BEGIN:VEVENT
DTSTART;TZID=Europe/Berlin:20240424T093000
DTEND;TZID=Europe/Berlin:20240424T120000
DTSTAMP:20260421T204452
CREATED:20240125T185850Z
LAST-MODIFIED:20240205T100304Z
UID:10000056-1713951000-1713960000@www.pflegedeinezukunft.de
SUMMARY:Pflege zum Anfassen
DESCRIPTION:Praxisnahe Tätigkeiten in der Pflege als Selbsterfahrung und Demonstration. Multimediale Nutzung in der Pflege. Informationen zu den Ausbildungs-\, Beschäftigungs- und Fortbildungsmöglichkeiten in der Pflege. \nGruppen ab 10 Personen melden sich bitte an. E-Mail: jas.mueller@asb-heilbronn.de.
URL:https://www.pflegedeinezukunft.de/event/pflege-zum-anfassen-3/
LOCATION:ASB Zentrum für Altenhilfe am Ilvesbach\, Am Ilvesbach 2\, Sinsheim\, 74889\, Deutschland
CATEGORIES:Aktionswoche 2024
ORGANIZER;CN="ASB Zentrum f%C3%BCr Altenhilfe  am Ilvesbach":MAILTO:jas.mueller@asb-heilbronn.de
END:VEVENT
BEGIN:VEVENT
DTSTART;TZID=Europe/Berlin:20240423T140000
DTEND;TZID=Europe/Berlin:20240423T160000
DTSTAMP:20260421T204452
CREATED:20240125T185835Z
LAST-MODIFIED:20240205T101051Z
UID:10000055-1713880800-1713888000@www.pflegedeinezukunft.de
SUMMARY:Pflege zum Anfassen
DESCRIPTION:Praxisnahe Tätigkeiten in der Pflege als Selbsterfahrung und Demonstration. Multimediale Nutzung in der Pflege. Informationen zu den Ausbildungs-\, Beschäftigungs- und Fortbildungsmöglichkeiten in der Pflege. \nGruppen ab 10 Personen melden sich bitte an. E-Mail: jas.mueller@asb-heilbronn.de.
URL:https://www.pflegedeinezukunft.de/event/pflege-zum-anfassen-2/
LOCATION:ASB Zentrum für Altenhilfe am Ilvesbach\, Am Ilvesbach 2\, Sinsheim\, 74889\, Deutschland
CATEGORIES:Aktionswoche 2024
ORGANIZER;CN="ASB Zentrum f%C3%BCr Altenhilfe  am Ilvesbach":MAILTO:jas.mueller@asb-heilbronn.de
END:VEVENT
BEGIN:VEVENT
DTSTART;TZID=Europe/Berlin:20240423T093000
DTEND;TZID=Europe/Berlin:20240423T120000
DTSTAMP:20260421T204452
CREATED:20240125T185834Z
LAST-MODIFIED:20240205T101430Z
UID:10000054-1713864600-1713873600@www.pflegedeinezukunft.de
SUMMARY:Pflege zum Anfassen
DESCRIPTION:Praxisnahe Tätigkeiten in der Pflege als Selbsterfahrung und Demonstration. Multimediale Nutzung in der Pflege. Informationen zu den Ausbildungs-\, Beschäftigungs- und Fortbildungsmöglichkeiten in der Pflege. \nGruppen ab 10 Personen melden sich bitte an. E-Mail: jas.mueller@asb-heilbronn.de.
URL:https://www.pflegedeinezukunft.de/event/pflege-zum-anfassen/
LOCATION:ASB Zentrum für Altenhilfe am Ilvesbach\, Am Ilvesbach 2\, Sinsheim\, 74889\, Deutschland
CATEGORIES:Aktionswoche 2024
ORGANIZER;CN="ASB Zentrum f%C3%BCr Altenhilfe  am Ilvesbach":MAILTO:jas.mueller@asb-heilbronn.de
END:VEVENT
END:VCALENDAR