BEGIN:VCALENDAR
VERSION:2.0
PRODID:-//Pflege! Deine Zukunft - ECPv6.15.20//NONSGML v1.0//EN
CALSCALE:GREGORIAN
METHOD:PUBLISH
X-ORIGINAL-URL:https://www.pflegedeinezukunft.de
X-WR-CALDESC:Veranstaltungen für Pflege! Deine Zukunft
REFRESH-INTERVAL;VALUE=DURATION:PT1H
X-Robots-Tag:noindex
X-PUBLISHED-TTL:PT1H
BEGIN:VTIMEZONE
TZID:Europe/Berlin
BEGIN:DAYLIGHT
TZOFFSETFROM:+0100
TZOFFSETTO:+0200
TZNAME:CEST
DTSTART:20230326T010000
END:DAYLIGHT
BEGIN:STANDARD
TZOFFSETFROM:+0200
TZOFFSETTO:+0100
TZNAME:CET
DTSTART:20231029T010000
END:STANDARD
BEGIN:DAYLIGHT
TZOFFSETFROM:+0100
TZOFFSETTO:+0200
TZNAME:CEST
DTSTART:20240331T010000
END:DAYLIGHT
BEGIN:STANDARD
TZOFFSETFROM:+0200
TZOFFSETTO:+0100
TZNAME:CET
DTSTART:20241027T010000
END:STANDARD
BEGIN:DAYLIGHT
TZOFFSETFROM:+0100
TZOFFSETTO:+0200
TZNAME:CEST
DTSTART:20250330T010000
END:DAYLIGHT
BEGIN:STANDARD
TZOFFSETFROM:+0200
TZOFFSETTO:+0100
TZNAME:CET
DTSTART:20251026T010000
END:STANDARD
END:VTIMEZONE
BEGIN:VEVENT
DTSTART;TZID=Europe/Berlin:20240425T090000
DTEND;TZID=Europe/Berlin:20240425T130000
DTSTAMP:20260421T202359
CREATED:20240201T094841Z
LAST-MODIFIED:20240228T090436Z
UID:10000127-1714035600-1714050000@www.pflegedeinezukunft.de
SUMMARY:Die Pflege braucht ein starkes Team!
DESCRIPTION:Ihr liebt knifflige Rätsel und den Nervenkitzel eines Escape-Rooms? Unter dem Motto „DER AUSBRUCH” eines bekannten Filmschurken hat das avendi-Team vom Sandhofer Stich in Mannheim einen fantastischen Escape-Room gestaltet. \nEntdeckt unseren Escape-Room und nutzt eure Fähigkeiten und Stärken\, um die verschiedenen Aufgaben zu lösen. Anschließend stehen euch unsere Mitarbeitenden für Führungen durchs Haus und Fragen rund um den Pflegeberuf zur Verfügung. Egal\, ob ihr Schüler:innen seid\, euch für einen Quer- oder Wiedereinstieg in die Pflege interessiert oder einfach nur neugierig seid\, wir heißen euch herzlich willkommen. \nGruppen ab 10 Personen melden sich bitte an. E-Mail: tim.wolf@dus.de. \nFlyer_Escaperoom
URL:https://www.pflegedeinezukunft.de/event/die-pflege-braucht-ein-starkes-team-3/
LOCATION:avendi Pflege & Wohnen Sandhofer Stich\, Spinnereistraße 8\, Mannheim\, 68307\, Deutschland
CATEGORIES:Aktionswoche 2024
ORGANIZER;CN="avendi Pflege & Wohnen Sandhofer Stich":MAILTO:tim.wolf@dus.de
END:VEVENT
BEGIN:VEVENT
DTSTART;TZID=Europe/Berlin:20240423T090000
DTEND;TZID=Europe/Berlin:20240423T130000
DTSTAMP:20260421T202359
CREATED:20240201T094813Z
LAST-MODIFIED:20240228T090335Z
UID:10000126-1713862800-1713877200@www.pflegedeinezukunft.de
SUMMARY:Die Pflege braucht ein starkes Team!
DESCRIPTION:Ihr liebt knifflige Rätsel und den Nervenkitzel eines Escape-Rooms? Unter dem Motto „DER AUSBRUCH” eines bekannten Filmschurken hat das avendi-Team vom Sandhofer Stich in Mannheim einen fantastischen Escape-Room gestaltet. \nEntdeckt unseren Escape-Room und nutzt eure Fähigkeiten und Stärken\, um die verschiedenen Aufgaben zu lösen. Anschließend stehen euch unsere Mitarbeitenden für Führungen durchs Haus und Fragen rund um den Pflegeberuf zur Verfügung. Egal\, ob ihr Schüler:innen seid\, euch für einen Quer- oder Wiedereinstieg in die Pflege interessiert oder einfach nur neugierig seid\, wir heißen euch herzlich willkommen. \nGruppen ab 10 Personen melden sich bitte an. E-Mail: tim.wolf@dus.de. \nFlyer_Escaperoom
URL:https://www.pflegedeinezukunft.de/event/die-pflege-braucht-ein-starkes-team-2/
LOCATION:avendi Pflege & Wohnen Sandhofer Stich\, Spinnereistraße 8\, Mannheim\, 68307\, Deutschland
CATEGORIES:Aktionswoche 2024
ORGANIZER;CN="avendi Pflege & Wohnen Sandhofer Stich":MAILTO:tim.wolf@dus.de
END:VEVENT
BEGIN:VEVENT
DTSTART;TZID=Europe/Berlin:20240422T090000
DTEND;TZID=Europe/Berlin:20240422T130000
DTSTAMP:20260421T202359
CREATED:20240201T094616Z
LAST-MODIFIED:20240228T090236Z
UID:10000125-1713776400-1713790800@www.pflegedeinezukunft.de
SUMMARY:Die Pflege braucht ein starkes Team!
DESCRIPTION:Ihr liebt knifflige Rätsel und den Nervenkitzel eines Escape-Rooms? Unter dem Motto „DER AUSBRUCH” eines bekannten Filmschurken hat das avendi-Team vom Sandhofer Stich in Mannheim einen fantastischen Escape-Room gestaltet. \nEntdeckt unseren Escape-Room und nutzt eure Fähigkeiten und Stärken\, um die verschiedenen Aufgaben zu lösen. Anschließend stehen euch unsere Mitarbeitenden für Führungen durchs Haus und Fragen rund um den Pflegeberuf zur Verfügung. Egal\, ob ihr Schüler:innen seid\, euch für einen Quer- oder Wiedereinstieg in die Pflege interessiert oder einfach nur neugierig seid\, wir heißen euch herzlich willkommen. \nGruppen ab 10 Personen melden sich bitte an. E-Mail: tim.wolf@dus.de. \nFlyer_Escaperoom
URL:https://www.pflegedeinezukunft.de/event/die-pflege-braucht-ein-starkes-team/
LOCATION:avendi Pflege & Wohnen Sandhofer Stich\, Spinnereistraße 8\, Mannheim\, 68307\, Deutschland
CATEGORIES:Aktionswoche 2024
ORGANIZER;CN="avendi Pflege & Wohnen Sandhofer Stich":MAILTO:tim.wolf@dus.de
END:VEVENT
END:VCALENDAR