BEGIN:VCALENDAR
VERSION:2.0
PRODID:-//Pflege! Deine Zukunft - ECPv6.15.20//NONSGML v1.0//EN
CALSCALE:GREGORIAN
METHOD:PUBLISH
X-WR-CALNAME:Pflege! Deine Zukunft
X-ORIGINAL-URL:https://www.pflegedeinezukunft.de
X-WR-CALDESC:Veranstaltungen für Pflege! Deine Zukunft
REFRESH-INTERVAL;VALUE=DURATION:PT1H
X-Robots-Tag:noindex
X-PUBLISHED-TTL:PT1H
BEGIN:VTIMEZONE
TZID:Europe/Berlin
BEGIN:DAYLIGHT
TZOFFSETFROM:+0100
TZOFFSETTO:+0200
TZNAME:CEST
DTSTART:20240331T010000
END:DAYLIGHT
BEGIN:STANDARD
TZOFFSETFROM:+0200
TZOFFSETTO:+0100
TZNAME:CET
DTSTART:20241027T010000
END:STANDARD
BEGIN:DAYLIGHT
TZOFFSETFROM:+0100
TZOFFSETTO:+0200
TZNAME:CEST
DTSTART:20250330T010000
END:DAYLIGHT
BEGIN:STANDARD
TZOFFSETFROM:+0200
TZOFFSETTO:+0100
TZNAME:CET
DTSTART:20251026T010000
END:STANDARD
BEGIN:DAYLIGHT
TZOFFSETFROM:+0100
TZOFFSETTO:+0200
TZNAME:CEST
DTSTART:20260329T010000
END:DAYLIGHT
BEGIN:STANDARD
TZOFFSETFROM:+0200
TZOFFSETTO:+0100
TZNAME:CET
DTSTART:20261025T010000
END:STANDARD
END:VTIMEZONE
BEGIN:VEVENT
DTSTART;TZID=Europe/Berlin:20251015T170000
DTEND;TZID=Europe/Berlin:20251016T160000
DTSTAMP:20260421T214654
CREATED:20250528T065035Z
LAST-MODIFIED:20250528T065551Z
UID:10000160-1760547600-1760630400@www.pflegedeinezukunft.de
SUMMARY:Heidelberger Ausbildungs- und Studientage
DESCRIPTION:Wann? \nMittwoch\, 15. Oktober 2025\, 17:00 – 20:30 Uhr \nDonnerstag\, 16. Oktober 2025\, 08:30 – 16:00 Uhr \nWo? \nDezernat 16 \nEmil-Maier-Straße 16 \n69115 Heidelberg \nWas? \nDie Heidelberger Ausbildungs- und Studientage sind eine jährlich stattfindende Veranstaltung\, die sich als bedeutende Anlaufstelle etabliert hat. Die Studien- und Ausbildungsmesse bietet eine einzigartige Plattform\, auf der sich Interessierte über vielfältige Karrieremöglichkeiten informieren können. \nMehr als 60 Unternehmen verschiedenster Branchen präsentieren sich auf der Messe und geben allen Interessierten die Möglichkeit\, die unterschiedlichsten Berufsbilder praxisnah zu erleben und selbst auszutesten. Unabhängig davon\, ob Sie einen Studienplatz\, Ausbildungsplatz oder eine andere berufliche Perspektive suchen\, bietet die Messe eine einzigartige Gelegenheit\, persönlich mit Vertretern aus verschiedenen Branchen in Kontakt zu treten. \nZusätzlich zu den Ausstellenden bietet die Messe ein vielfältiges Rahmenprogramm. Der Mitmach-Parcours ermöglicht Einblicke in verschiedene Berufsfelder\, während das Bewerbungscafé individuelle Unterstützung bei der Optimierung von Bewerbungsunterlagen bietet.
URL:https://www.pflegedeinezukunft.de/event/heidelberger-ausbildungs-und-studientage/
LOCATION:Dezernat 16\, Emil-Maier-Straße 16\, Heidelberg\, Baden-Württemberg\, 69115\, Deutschland
ORGANIZER;CN="Stadt Heidelberg":MAILTO:lucie.leonhardt@heidelberg.de
END:VEVENT
END:VCALENDAR