BEGIN:VCALENDAR
VERSION:2.0
PRODID:-//Pflege! Deine Zukunft - ECPv6.15.20//NONSGML v1.0//EN
CALSCALE:GREGORIAN
METHOD:PUBLISH
X-WR-CALNAME:Pflege! Deine Zukunft
X-ORIGINAL-URL:https://www.pflegedeinezukunft.de
X-WR-CALDESC:Veranstaltungen für Pflege! Deine Zukunft
REFRESH-INTERVAL;VALUE=DURATION:PT1H
X-Robots-Tag:noindex
X-PUBLISHED-TTL:PT1H
BEGIN:VTIMEZONE
TZID:Europe/Berlin
BEGIN:DAYLIGHT
TZOFFSETFROM:+0100
TZOFFSETTO:+0200
TZNAME:CEST
DTSTART:20230326T010000
END:DAYLIGHT
BEGIN:STANDARD
TZOFFSETFROM:+0200
TZOFFSETTO:+0100
TZNAME:CET
DTSTART:20231029T010000
END:STANDARD
BEGIN:DAYLIGHT
TZOFFSETFROM:+0100
TZOFFSETTO:+0200
TZNAME:CEST
DTSTART:20240331T010000
END:DAYLIGHT
BEGIN:STANDARD
TZOFFSETFROM:+0200
TZOFFSETTO:+0100
TZNAME:CET
DTSTART:20241027T010000
END:STANDARD
BEGIN:DAYLIGHT
TZOFFSETFROM:+0100
TZOFFSETTO:+0200
TZNAME:CEST
DTSTART:20250330T010000
END:DAYLIGHT
BEGIN:STANDARD
TZOFFSETFROM:+0200
TZOFFSETTO:+0100
TZNAME:CET
DTSTART:20251026T010000
END:STANDARD
END:VTIMEZONE
BEGIN:VEVENT
DTSTART;TZID=Europe/Berlin:20240423T140000
DTEND;TZID=Europe/Berlin:20240423T160000
DTSTAMP:20260424T170142
CREATED:20240125T190320Z
LAST-MODIFIED:20240205T101009Z
UID:10000078-1713880800-1713888000@www.pflegedeinezukunft.de
SUMMARY:Lerne uns kennen -Kreative Mitmachaktionen erwarten dich!
DESCRIPTION:Du lernst unseren Pflegebereich und die Eingliederungshilfe kennen und erhältst einen Einblick in die Arbeitsbereiche der Pflege. Wir messen zusammen Blutdruck\, arbeiten mit einer Tovertafel und vieles mehr. Auch Quer- und Wiedereinsteiger:innen sind herzlich willkommen. \nGruppen ab 10 Personen melden sich bitte an. E-Mail: susann.troelenberg@grn.de.
URL:https://www.pflegedeinezukunft.de/event/lerne-uns-kennen-kreative-mitmachaktionen-erwarten-dich-2/
LOCATION:GRN Betreuungszentrum Weinheim\, Röntgenstraße 5\, Weinheim\, 69469\, Deutschland
CATEGORIES:Aktionswoche 2024
ORGANIZER;CN="GRN Betreuungszentrum Weinheim":MAILTO:susann.troelenberg@grn.de
END:VEVENT
BEGIN:VEVENT
DTSTART;TZID=Europe/Berlin:20240423T100000
DTEND;TZID=Europe/Berlin:20240423T120000
DTSTAMP:20260424T170142
CREATED:20240125T190320Z
LAST-MODIFIED:20240205T101333Z
UID:10000077-1713866400-1713873600@www.pflegedeinezukunft.de
SUMMARY:Lerne uns kennen -Kreative Mitmachaktionen erwarten dich!
DESCRIPTION:Du lernst unseren Pflegebereich und die Eingliederungshilfe kennen und erhältst einen Einblick in die Arbeitsbereiche der Pflege. Wir messen zusammen Blutdruck\, arbeiten mit einer Tovertafel und vieles mehr. \nGruppen ab 10 Personen melden sich bitte an. E-Mail: susann.troelenberg@grn.de.
URL:https://www.pflegedeinezukunft.de/event/lerne-uns-kennen-kreative-mitmachaktionen-erwarten-dich/
LOCATION:GRN Betreuungszentrum Weinheim\, Röntgenstraße 5\, Weinheim\, 69469\, Deutschland
CATEGORIES:Aktionswoche 2024
ORGANIZER;CN="GRN Betreuungszentrum Weinheim":MAILTO:susann.troelenberg@grn.de
END:VEVENT
END:VCALENDAR