BEGIN:VCALENDAR
VERSION:2.0
PRODID:-//Pflege! Deine Zukunft - ECPv6.15.20//NONSGML v1.0//EN
CALSCALE:GREGORIAN
METHOD:PUBLISH
X-ORIGINAL-URL:https://www.pflegedeinezukunft.de
X-WR-CALDESC:Veranstaltungen für Pflege! Deine Zukunft
REFRESH-INTERVAL;VALUE=DURATION:PT1H
X-Robots-Tag:noindex
X-PUBLISHED-TTL:PT1H
BEGIN:VTIMEZONE
TZID:Europe/Berlin
BEGIN:DAYLIGHT
TZOFFSETFROM:+0100
TZOFFSETTO:+0200
TZNAME:CEST
DTSTART:20230326T010000
END:DAYLIGHT
BEGIN:STANDARD
TZOFFSETFROM:+0200
TZOFFSETTO:+0100
TZNAME:CET
DTSTART:20231029T010000
END:STANDARD
BEGIN:DAYLIGHT
TZOFFSETFROM:+0100
TZOFFSETTO:+0200
TZNAME:CEST
DTSTART:20240331T010000
END:DAYLIGHT
BEGIN:STANDARD
TZOFFSETFROM:+0200
TZOFFSETTO:+0100
TZNAME:CET
DTSTART:20241027T010000
END:STANDARD
BEGIN:DAYLIGHT
TZOFFSETFROM:+0100
TZOFFSETTO:+0200
TZNAME:CEST
DTSTART:20250330T010000
END:DAYLIGHT
BEGIN:STANDARD
TZOFFSETFROM:+0200
TZOFFSETTO:+0100
TZNAME:CET
DTSTART:20251026T010000
END:STANDARD
END:VTIMEZONE
BEGIN:VEVENT
DTSTART;TZID=Europe/Berlin:20240425T100000
DTEND;TZID=Europe/Berlin:20240425T130000
DTSTAMP:20260421T204612
CREATED:20240125T190335Z
LAST-MODIFIED:20240205T091453Z
UID:10000084-1714039200-1714050000@www.pflegedeinezukunft.de
SUMMARY:Lerne mit uns die Pflege kennen!
DESCRIPTION:Wir stellen uns vor\, du kommst ins Gespräch mit unseren Auszubildenden und erhältst einen Einblick in die Behandlungspflege. Schüler:innen\, Quer- und Wiedereinsteiger:innen und alle anderen Interessierten sind herzlich willkommen. \nGruppen ab 10 Personen melden sich bitte an. E-Mail: info@bensheim.incura.de.
URL:https://www.pflegedeinezukunft.de/event/lerne-mit-uns-die-pflege-kennen/
LOCATION:Incura Seniorenresidenz Villa Medici\, Nibelungenstraße 101\, Bensheim\, 64625\, Deutschland
CATEGORIES:Aktionswoche 2024
ORGANIZER;CN="Incura Seniorenresidenz Villa Medici":MAILTO:info@bensheim.incura.de
END:VEVENT
END:VCALENDAR