BEGIN:VCALENDAR
VERSION:2.0
PRODID:-//Pflege! Deine Zukunft - ECPv6.15.20//NONSGML v1.0//EN
CALSCALE:GREGORIAN
METHOD:PUBLISH
X-WR-CALNAME:Pflege! Deine Zukunft
X-ORIGINAL-URL:https://www.pflegedeinezukunft.de
X-WR-CALDESC:Veranstaltungen für Pflege! Deine Zukunft
REFRESH-INTERVAL;VALUE=DURATION:PT1H
X-Robots-Tag:noindex
X-PUBLISHED-TTL:PT1H
BEGIN:VTIMEZONE
TZID:Europe/Berlin
BEGIN:DAYLIGHT
TZOFFSETFROM:+0100
TZOFFSETTO:+0200
TZNAME:CEST
DTSTART:20240331T010000
END:DAYLIGHT
BEGIN:STANDARD
TZOFFSETFROM:+0200
TZOFFSETTO:+0100
TZNAME:CET
DTSTART:20241027T010000
END:STANDARD
BEGIN:DAYLIGHT
TZOFFSETFROM:+0100
TZOFFSETTO:+0200
TZNAME:CEST
DTSTART:20250330T010000
END:DAYLIGHT
BEGIN:STANDARD
TZOFFSETFROM:+0200
TZOFFSETTO:+0100
TZNAME:CET
DTSTART:20251026T010000
END:STANDARD
BEGIN:DAYLIGHT
TZOFFSETFROM:+0100
TZOFFSETTO:+0200
TZNAME:CEST
DTSTART:20260329T010000
END:DAYLIGHT
BEGIN:STANDARD
TZOFFSETFROM:+0200
TZOFFSETTO:+0100
TZNAME:CET
DTSTART:20261025T010000
END:STANDARD
END:VTIMEZONE
BEGIN:VEVENT
DTSTART;TZID=Europe/Berlin:20251016T130000
DTEND;TZID=Europe/Berlin:20251016T150000
DTSTAMP:20260421T214132
CREATED:20250528T061724Z
LAST-MODIFIED:20250528T061724Z
UID:10000157-1760619600-1760626800@www.pflegedeinezukunft.de
SUMMARY:Azubi-Speed-Dating
DESCRIPTION:Das Azubi-Speed-Dating bietet dir die Chance\, dich gleich bei mehreren Ausbildungsbetrieben persönlich vorzustellen. In zehnminütigen Gesprächen kannst du die Betriebe kennenlernen\, dich selbst vorstellen und Näheres über die Ausbildung erfahren. Im besten Fall erhältst du anschließend eine Einladung zum Probetag\, Praktikum oder sogar zum Vorstellungsgespräch. Zudem kannst du vor Ort direkt deine Bewerbungsunterlagen bei den Ausbildungsverantwortlichen abgeben.\n\nDer erste Eindruck zählt: Nutze die Chance\, nicht nur selbst einen ersten\, persönlichen Eindruck zu hinterlassen\, sondern auch einen echten Einblick zu gewinnen!\n\nEine Anmeldung für Ausbildungsinteressierte ist nicht erforderlich. Die Teilnahme an der Veranstaltung ist kostenfrei. Komm einfach mit deinen Unterlagen vorbei!
URL:https://www.pflegedeinezukunft.de/event/azubi-speed-dating-2/
LOCATION:Max-Weber-Schule\, Alte Daisbacher Straße 7\, Sinsheim\, Baden-Württemberg\, 74889\, Deutschland
ORGANIZER;CN="IHK Rhein-Neckar":MAILTO:henri.moehren@rhein-neckar.ihk24.de
END:VEVENT
END:VCALENDAR