BEGIN:VCALENDAR
VERSION:2.0
PRODID:-//Pflege! Deine Zukunft - ECPv6.15.20//NONSGML v1.0//EN
CALSCALE:GREGORIAN
METHOD:PUBLISH
X-WR-CALNAME:Pflege! Deine Zukunft
X-ORIGINAL-URL:https://www.pflegedeinezukunft.de
X-WR-CALDESC:Veranstaltungen für Pflege! Deine Zukunft
REFRESH-INTERVAL;VALUE=DURATION:PT1H
X-Robots-Tag:noindex
X-PUBLISHED-TTL:PT1H
BEGIN:VTIMEZONE
TZID:Europe/Berlin
BEGIN:DAYLIGHT
TZOFFSETFROM:+0100
TZOFFSETTO:+0200
TZNAME:CEST
DTSTART:20230326T010000
END:DAYLIGHT
BEGIN:STANDARD
TZOFFSETFROM:+0200
TZOFFSETTO:+0100
TZNAME:CET
DTSTART:20231029T010000
END:STANDARD
BEGIN:DAYLIGHT
TZOFFSETFROM:+0100
TZOFFSETTO:+0200
TZNAME:CEST
DTSTART:20240331T010000
END:DAYLIGHT
BEGIN:STANDARD
TZOFFSETFROM:+0200
TZOFFSETTO:+0100
TZNAME:CET
DTSTART:20241027T010000
END:STANDARD
BEGIN:DAYLIGHT
TZOFFSETFROM:+0100
TZOFFSETTO:+0200
TZNAME:CEST
DTSTART:20250330T010000
END:DAYLIGHT
BEGIN:STANDARD
TZOFFSETFROM:+0200
TZOFFSETTO:+0100
TZNAME:CET
DTSTART:20251026T010000
END:STANDARD
END:VTIMEZONE
BEGIN:VEVENT
DTSTART;TZID=Europe/Berlin:20240423T083000
DTEND;TZID=Europe/Berlin:20240423T150000
DTSTAMP:20260421T203829
CREATED:20240125T185832Z
LAST-MODIFIED:20240205T102459Z
UID:10000050-1713861000-1713884400@www.pflegedeinezukunft.de
SUMMARY:Einblick in die Pflege
DESCRIPTION:Du lernst die Pflege am Klienten kennen und erhältst Einblick in die verschiedenen Bereiche unserer Einrichtung\, wie ambulanter Dienst\, Tagespflege und Wohngemeinschaft. Viele interessante Stationen erwarten dich. \nGruppen ab 10 Personen melden sich bitte an. E-Mail: manuela.kohlross@sozialstation-letzenberg.de.
URL:https://www.pflegedeinezukunft.de/event/einblick-in-die-pflege/
LOCATION:Sozialstation Letzenberg\, Mauhecke 12\, Mühlhausen\, 69242\, Deutschland
CATEGORIES:Aktionswoche 2024
ORGANIZER;CN="Sozialstation Letzenberg":MAILTO:manuela.kohlross@sozialstation-letzenberg.de
END:VEVENT
END:VCALENDAR